BEGIN:VCALENDAR
VERSION:2.0
PRODID:-//Concejo Hospederia - ECPv5.16.2.1//NONSGML v1.0//EN
CALSCALE:GREGORIAN
METHOD:PUBLISH
X-ORIGINAL-URL:https://concejohospederia.com
X-WR-CALDESC:Eventos para Concejo Hospederia
REFRESH-INTERVAL;VALUE=DURATION:PT1H
X-Robots-Tag:noindex
X-PUBLISHED-TTL:PT1H
BEGIN:VTIMEZONE
TZID:Europe/Madrid
BEGIN:DAYLIGHT
TZOFFSETFROM:+0100
TZOFFSETTO:+0200
TZNAME:CEST
DTSTART:20220327T010000
END:DAYLIGHT
BEGIN:STANDARD
TZOFFSETFROM:+0200
TZOFFSETTO:+0100
TZNAME:CET
DTSTART:20221030T010000
END:STANDARD
END:VTIMEZONE
BEGIN:VEVENT
DTSTART;VALUE=DATE:20220821
DTEND;VALUE=DATE:20220822
DTSTAMP:20260421T071031
CREATED:20220816T095710Z
LAST-MODIFIED:20220816T103116Z
UID:8030-1661040000-1661126399@concejohospederia.com
SUMMARY:Atardeceres de Vino y Jazz 21 de Agosto
DESCRIPTION:
URL:https://concejohospederia.com/entrada/atardeceres-de-vino-y-jazz-21-de-agosto/
LOCATION:Concejo Bodegas\, VA-103 km 3\,6\, Valoria la Buena\, Valladolid\, 47200\, España
ATTACH;FMTTYPE=image/jpeg:https://concejohospederia.com/wp-content/uploads/2022/08/atardeceres-jazz-21-agosto-cesar-tejero.jpg
END:VEVENT
BEGIN:VEVENT
DTSTART;VALUE=DATE:20220828
DTEND;VALUE=DATE:20220829
DTSTAMP:20260421T071031
CREATED:20220816T105006Z
LAST-MODIFIED:20220816T105006Z
UID:8055-1661644800-1661731199@concejohospederia.com
SUMMARY:Atardeceres de Vino y Jazz  28 de Agosto
DESCRIPTION:
URL:https://concejohospederia.com/entrada/atardeceres-de-vino-y-jazz-28-de-agosto/
ATTACH;FMTTYPE=image/jpeg:https://concejohospederia.com/wp-content/uploads/2022/08/atardeceres-jazz-28-agosto-chuchi.jpg
END:VEVENT
END:VCALENDAR