BEGIN:VCALENDAR
VERSION:2.0
PRODID:-//Concejo Hospederia - ECPv5.16.2.1//NONSGML v1.0//EN
CALSCALE:GREGORIAN
METHOD:PUBLISH
X-ORIGINAL-URL:https://concejohospederia.com
X-WR-CALDESC:Eventos para Concejo Hospederia
REFRESH-INTERVAL;VALUE=DURATION:PT1H
X-Robots-Tag:noindex
X-PUBLISHED-TTL:PT1H
BEGIN:VTIMEZONE
TZID:Europe/Madrid
BEGIN:DAYLIGHT
TZOFFSETFROM:+0100
TZOFFSETTO:+0200
TZNAME:CEST
DTSTART:20220327T010000
END:DAYLIGHT
BEGIN:STANDARD
TZOFFSETFROM:+0200
TZOFFSETTO:+0100
TZNAME:CET
DTSTART:20221030T010000
END:STANDARD
END:VTIMEZONE
BEGIN:VEVENT
DTSTART;VALUE=DATE:20220818
DTEND;VALUE=DATE:20220820
DTSTAMP:20260421T040207
CREATED:20220712T123150Z
LAST-MODIFIED:20220712T143747Z
UID:7935-1660788000-1660874399@concejohospederia.com
SUMMARY:Nacho García y Miguel Iribar
DESCRIPTION:
URL:https://concejohospederia.com/entrada/nacho-garcia-y-miguel-iribar/
LOCATION:Concejo Hospedería\, Plaza Hortal s/n\, Valoria la Buena\, Valladolid\, 47200
ATTACH;FMTTYPE=image/jpeg:https://concejohospederia.com/wp-content/uploads/2022/07/nacho-miguel.jpg
END:VEVENT
END:VCALENDAR